Package: MultiDataSet Version: 1.38.0 Command: /home/biocbuild/bbs-3.22-bioc/R/bin/R CMD build --keep-empty-dirs --no-resave-data --md5 MultiDataSet StartedAt: 2025-11-14 19:01:09 -0500 (Fri, 14 Nov 2025) EndedAt: 2025-11-14 19:02:07 -0500 (Fri, 14 Nov 2025) EllapsedTime: 58.1 seconds RetCode: 0 Status: OK PackageFile: MultiDataSet_1.38.0.tar.gz PackageFileSize: 497.5 KiB