Package: MultiDataSet Version: 1.36.0 Command: /home/biocbuild/bbs-3.21-bioc/R/bin/R CMD INSTALL MultiDataSet StartedAt: 2025-09-28 15:34:43 -0400 (Sun, 28 Sep 2025) EndedAt: 2025-09-28 15:35:06 -0400 (Sun, 28 Sep 2025) EllapsedTime: 23.4 seconds RetCode: 0 Status: OK