Package: MultiDataSet Version: 1.36.0 Command: /home/biocbuild/bbs-3.21-bioc/R/bin/R CMD check --install=check:MultiDataSet.install-out.txt --library=/home/biocbuild/bbs-3.21-bioc/R/site-library --timings MultiDataSet_1.36.0.tar.gz StartedAt: 2025-10-06 01:29:50 -0400 (Mon, 06 Oct 2025) EndedAt: 2025-10-06 01:33:18 -0400 (Mon, 06 Oct 2025) EllapsedTime: 208.3 seconds RetCode: 0 Status: WARNINGS CheckDir: MultiDataSet.Rcheck Warnings: 1