Package: MultiDataSet Version: 1.38.0 Command: /Library/Frameworks/R.framework/Resources/bin/R CMD check --install=check:MultiDataSet.install-out.txt --library=/Library/Frameworks/R.framework/Resources/library --no-vignettes --timings MultiDataSet_1.38.0.tar.gz StartedAt: 2025-10-30 22:37:55 -0400 (Thu, 30 Oct 2025) EndedAt: 2025-10-30 22:41:02 -0400 (Thu, 30 Oct 2025) EllapsedTime: 186.8 seconds RetCode: 0 Status: WARNINGS CheckDir: MultiDataSet.Rcheck Warnings: 1