Package: MultiDataSet Version: 1.36.0 Command: /Library/Frameworks/R.framework/Resources/bin/R CMD INSTALL MultiDataSet StartedAt: 2025-09-25 16:18:29 -0400 (Thu, 25 Sep 2025) EndedAt: 2025-09-25 16:18:57 -0400 (Thu, 25 Sep 2025) EllapsedTime: 28.0 seconds RetCode: 0 Status: OK