Package: MultiDataSet Version: 1.36.0 Command: /Library/Frameworks/R.framework/Resources/bin/R CMD check --install=check:MultiDataSet.install-out.txt --library=/Library/Frameworks/R.framework/Resources/library --no-vignettes --timings MultiDataSet_1.36.0.tar.gz StartedAt: 2025-10-08 07:20:07 -0400 (Wed, 08 Oct 2025) EndedAt: 2025-10-08 07:23:37 -0400 (Wed, 08 Oct 2025) EllapsedTime: 210.3 seconds RetCode: 0 Status: WARNINGS CheckDir: MultiDataSet.Rcheck Warnings: 1