Package: MultiBaC Version: 1.20.0 Command: /home/biocbuild/R/R/bin/R CMD INSTALL MultiBaC StartedAt: 2025-11-13 21:53:43 -0000 (Thu, 13 Nov 2025) EndedAt: 2025-11-13 21:53:51 -0000 (Thu, 13 Nov 2025) EllapsedTime: 7.9 seconds RetCode: 0 Status: OK