Package: MultiBaC Version: 1.18.0 Command: /home/biocbuild/bbs-3.21-bioc/R/bin/R CMD INSTALL MultiBaC StartedAt: 2025-10-01 15:40:53 -0400 (Wed, 01 Oct 2025) EndedAt: 2025-10-01 15:40:58 -0400 (Wed, 01 Oct 2025) EllapsedTime: 5.7 seconds RetCode: 0 Status: OK