Package: MultiBaC Version: 1.18.0 Command: /home/biocbuild/bbs-3.21-bioc/R/bin/R CMD build --keep-empty-dirs --no-resave-data MultiBaC StartedAt: 2025-10-01 18:50:00 -0400 (Wed, 01 Oct 2025) EndedAt: 2025-10-01 18:51:00 -0400 (Wed, 01 Oct 2025) EllapsedTime: 60.1 seconds RetCode: 0 Status: OK PackageFile: MultiBaC_1.18.0.tar.gz PackageFileSize: 1.742 MiB