Package: MultiBaC Version: 1.18.0 Command: /Library/Frameworks/R.framework/Resources/bin/R CMD INSTALL MultiBaC StartedAt: 2025-10-13 16:20:59 -0400 (Mon, 13 Oct 2025) EndedAt: 2025-10-13 16:21:12 -0400 (Mon, 13 Oct 2025) EllapsedTime: 13.0 seconds RetCode: 0 Status: OK