Package: MultiBaC Version: 1.18.0 Command: /Library/Frameworks/R.framework/Resources/bin/R CMD build --keep-empty-dirs --no-resave-data MultiBaC StartedAt: 2025-10-13 20:59:16 -0400 (Mon, 13 Oct 2025) EndedAt: 2025-10-13 21:00:58 -0400 (Mon, 13 Oct 2025) EllapsedTime: 102.7 seconds RetCode: 0 Status: OK PackageFile: MultiBaC_1.18.0.tar.gz PackageFileSize: 1.743 MiB