Package: MultiBaC Version: 1.18.0 Command: rm -rf MultiBaC.buildbin-libdir && mkdir MultiBaC.buildbin-libdir && /Users/biocbuild/BBS/utils/build-universal.sh MultiBaC_1.18.0.tar.gz /Library/Frameworks/R.framework/Resources/bin/R MultiBaC.buildbin-libdir StartedAt: 2025-04-22 00:57:12 -0400 (Tue, 22 Apr 2025) EndedAt: 2025-04-22 00:57:22 -0400 (Tue, 22 Apr 2025) EllapsedTime: 10.4 seconds RetCode: 0 Status: OK PackageFile: MultiBaC_1.18.0.tgz PackageFileSize: 1.804 MiB