Package: MultiBaC Version: 1.18.0 Command: /home/biocbuild/R/R/bin/R CMD build --keep-empty-dirs --no-resave-data MultiBaC StartedAt: 2025-09-26 04:17:26 -0000 (Fri, 26 Sep 2025) EndedAt: 2025-09-26 04:18:47 -0000 (Fri, 26 Sep 2025) EllapsedTime: 81.0 seconds RetCode: 0 Status: OK PackageFile: MultiBaC_1.18.0.tar.gz PackageFileSize: 1.625 MiB