Package: MultiBaC Version: 1.18.0 Command: /Library/Frameworks/R.framework/Resources/bin/R CMD INSTALL MultiBaC StartedAt: 2025-10-02 17:38:08 -0400 (Thu, 02 Oct 2025) EndedAt: 2025-10-02 17:38:15 -0400 (Thu, 02 Oct 2025) EllapsedTime: 6.6 seconds RetCode: 0 Status: OK