Package: MultiBaC Version: 1.18.0 Command: /Library/Frameworks/R.framework/Resources/bin/R CMD build --keep-empty-dirs --no-resave-data MultiBaC StartedAt: 2025-10-03 05:11:18 -0400 (Fri, 03 Oct 2025) EndedAt: 2025-10-03 05:12:41 -0400 (Fri, 03 Oct 2025) EllapsedTime: 83.7 seconds RetCode: 0 Status: OK PackageFile: MultiBaC_1.18.0.tar.gz PackageFileSize: 1.745 MiB