Package: MultiBaC Version: 1.18.0 Command: rm -rf MultiBaC.buildbin-libdir && mkdir MultiBaC.buildbin-libdir && /Users/biocbuild/BBS/utils/build-universal.sh MultiBaC_1.18.0.tar.gz /Library/Frameworks/R.framework/Resources/bin/R MultiBaC.buildbin-libdir StartedAt: 2025-10-04 19:00:53 -0400 (Sat, 04 Oct 2025) EndedAt: 2025-10-04 19:01:02 -0400 (Sat, 04 Oct 2025) EllapsedTime: 9.0 seconds RetCode: 0 Status: OK PackageFile: MultiBaC_1.18.0.tgz PackageFileSize: 1.805 MiB