Package: MultiAssayExperiment Version: 1.36.0 Command: /home/biocbuild/R/R/bin/R CMD INSTALL MultiAssayExperiment StartedAt: 2025-11-13 21:25:50 -0000 (Thu, 13 Nov 2025) EndedAt: 2025-11-13 21:26:31 -0000 (Thu, 13 Nov 2025) EllapsedTime: 40.7 seconds RetCode: 0 Status: OK