Package: MultiAssayExperiment Version: 1.35.8 Command: F:\biocbuild\bbs-3.22-bioc\R\bin\R.exe CMD INSTALL MultiAssayExperiment StartedAt: 2025-08-14 16:01:11 -0400 (Thu, 14 Aug 2025) EndedAt: 2025-08-14 16:05:21 -0400 (Thu, 14 Aug 2025) EllapsedTime: 250.2 seconds RetCode: 0 Status: OK