Package: MultiAssayExperiment Version: 1.36.0 Command: /home/biocbuild/bbs-3.22-bioc/R/bin/R CMD check --install=check:MultiAssayExperiment.install-out.txt --library=/home/biocbuild/bbs-3.22-bioc/R/site-library --timings MultiAssayExperiment_1.36.0.tar.gz StartedAt: 2025-11-12 01:58:43 -0500 (Wed, 12 Nov 2025) EndedAt: 2025-11-12 02:03:15 -0500 (Wed, 12 Nov 2025) EllapsedTime: 272.2 seconds RetCode: 0 Status: OK CheckDir: MultiAssayExperiment.Rcheck Warnings: 0