Package: MultiAssayExperiment Version: 1.34.0 Command: rm -rf MultiAssayExperiment.buildbin-libdir && mkdir MultiAssayExperiment.buildbin-libdir && /Users/biocbuild/BBS/utils/build-universal.sh MultiAssayExperiment_1.34.0.tar.gz /Library/Frameworks/R.framework/Resources/bin/R MultiAssayExperiment.buildbin-libdir StartedAt: 2025-10-14 14:12:36 -0400 (Tue, 14 Oct 2025) EndedAt: 2025-10-14 14:14:29 -0400 (Tue, 14 Oct 2025) EllapsedTime: 113.3 seconds RetCode: 0 Status: OK PackageFile: MultiAssayExperiment_1.34.0.tgz PackageFileSize: 2.081 MiB