Package: Mulcom Version: 1.60.0 Command: /home/biocbuild/bbs-3.22-bioc/R/bin/R CMD check --install=check:Mulcom.install-out.txt --library=/home/biocbuild/bbs-3.22-bioc/R/site-library --timings Mulcom_1.60.0.tar.gz StartedAt: 2025-11-21 02:35:15 -0500 (Fri, 21 Nov 2025) EndedAt: 2025-11-21 02:36:06 -0500 (Fri, 21 Nov 2025) EllapsedTime: 51.0 seconds RetCode: 0 Status: WARNINGS CheckDir: Mulcom.Rcheck Warnings: 1