Package: Mulcom Version: 1.60.0 Command: /Library/Frameworks/R.framework/Resources/bin/R CMD build --keep-empty-dirs --no-resave-data Mulcom StartedAt: 2025-11-03 17:58:04 -0500 (Mon, 03 Nov 2025) EndedAt: 2025-11-03 17:58:06 -0500 (Mon, 03 Nov 2025) EllapsedTime: 2.2 seconds RetCode: 0 Status: OK PackageFile: Mulcom_1.60.0.tar.gz PackageFileSize: 1.095 MiB