Package: Mulcom Version: 1.60.0 Command: rm -rf Mulcom.buildbin-libdir && mkdir Mulcom.buildbin-libdir && /Users/biocbuild/BBS/utils/build-universal.sh Mulcom_1.60.0.tar.gz /Library/Frameworks/R.framework/Resources/bin/R Mulcom.buildbin-libdir StartedAt: 2025-11-04 01:52:17 -0500 (Tue, 04 Nov 2025) EndedAt: 2025-11-04 01:52:34 -0500 (Tue, 04 Nov 2025) EllapsedTime: 16.3 seconds RetCode: 0 Status: OK PackageFile: Mulcom_1.60.0.tgz PackageFileSize: 1.188 MiB