Package: MuData Version: 1.14.0 Command: /home/biocbuild/R/R/bin/R CMD INSTALL MuData StartedAt: 2025-11-13 21:26:37 -0000 (Thu, 13 Nov 2025) EndedAt: 2025-11-13 21:27:09 -0000 (Thu, 13 Nov 2025) EllapsedTime: 32.2 seconds RetCode: 0 Status: OK