Package: MuData Version: 1.14.0 Command: /home/biocbuild/R/R/bin/R CMD build --keep-empty-dirs --no-resave-data MuData StartedAt: 2025-11-14 03:41:17 -0000 (Fri, 14 Nov 2025) EndedAt: 2025-11-14 03:44:16 -0000 (Fri, 14 Nov 2025) EllapsedTime: 179.1 seconds RetCode: 0 Status: OK PackageFile: MuData_1.14.0.tar.gz PackageFileSize: 1.491 MiB