Package: MuData Version: 1.14.0 Command: /home/biocbuild/bbs-3.22-bioc/R/bin/R CMD check --install=check:MuData.install-out.txt --library=/home/biocbuild/bbs-3.22-bioc/R/site-library --timings MuData_1.14.0.tar.gz StartedAt: 2025-11-12 01:57:51 -0500 (Wed, 12 Nov 2025) EndedAt: 2025-11-12 02:03:07 -0500 (Wed, 12 Nov 2025) EllapsedTime: 316.3 seconds RetCode: 0 Status: OK CheckDir: MuData.Rcheck Warnings: 0