Package: MuData Version: 1.14.0 Command: /Library/Frameworks/R.framework/Resources/bin/R CMD INSTALL MuData StartedAt: 2025-11-03 15:25:38 -0500 (Mon, 03 Nov 2025) EndedAt: 2025-11-03 15:26:12 -0500 (Mon, 03 Nov 2025) EllapsedTime: 33.6 seconds RetCode: 0 Status: OK