Package: MuData Version: 1.14.0 Command: /Library/Frameworks/R.framework/Resources/bin/R CMD build --keep-empty-dirs --no-resave-data MuData StartedAt: 2025-11-03 17:58:04 -0500 (Mon, 03 Nov 2025) EndedAt: 2025-11-03 18:00:51 -0500 (Mon, 03 Nov 2025) EllapsedTime: 166.7 seconds RetCode: 0 Status: OK PackageFile: MuData_1.14.0.tar.gz PackageFileSize: 2.185 MiB