Package: MuData Version: 1.14.0 Command: rm -rf MuData.buildbin-libdir && mkdir MuData.buildbin-libdir && /Users/biocbuild/BBS/utils/build-universal.sh MuData_1.14.0.tar.gz /Library/Frameworks/R.framework/Resources/bin/R MuData.buildbin-libdir StartedAt: 2025-11-04 01:52:17 -0500 (Tue, 04 Nov 2025) EndedAt: 2025-11-04 01:52:55 -0500 (Tue, 04 Nov 2025) EllapsedTime: 38.0 seconds RetCode: 0 Status: OK PackageFile: MuData_1.14.0.tgz PackageFileSize: 2.247 MiB