Package: MuData Version: 1.12.0 Command: /Library/Frameworks/R.framework/Resources/bin/R CMD INSTALL MuData StartedAt: 2025-10-09 16:18:57 -0400 (Thu, 09 Oct 2025) EndedAt: 2025-10-09 16:19:28 -0400 (Thu, 09 Oct 2025) EllapsedTime: 31.2 seconds RetCode: 0 Status: OK