Package: MuData Version: 1.12.0 Command: /Library/Frameworks/R.framework/Resources/bin/R CMD build --keep-empty-dirs --no-resave-data MuData StartedAt: 2025-10-10 05:33:24 -0400 (Fri, 10 Oct 2025) EndedAt: 2025-10-10 05:37:21 -0400 (Fri, 10 Oct 2025) EllapsedTime: 237.0 seconds RetCode: 0 Status: OK PackageFile: MuData_1.12.0.tar.gz PackageFileSize: 2.2 MiB