Package: MsQuality Version: 1.10.0 Command: /home/biocbuild/bbs-3.22-bioc/R/bin/R CMD INSTALL MsQuality StartedAt: 2025-11-11 15:40:05 -0500 (Tue, 11 Nov 2025) EndedAt: 2025-11-11 15:40:38 -0500 (Tue, 11 Nov 2025) EllapsedTime: 33.7 seconds RetCode: 0 Status: OK