Package: MsQuality Version: 1.10.0 Command: /home/biocbuild/bbs-3.22-bioc/R/bin/R CMD check --install=check:MsQuality.install-out.txt --library=/home/biocbuild/bbs-3.22-bioc/R/site-library --timings MsQuality_1.10.0.tar.gz StartedAt: 2025-11-18 06:22:34 -0500 (Tue, 18 Nov 2025) EndedAt: 2025-11-18 06:29:25 -0500 (Tue, 18 Nov 2025) EllapsedTime: 411.4 seconds RetCode: 0 Status: OK CheckDir: MsQuality.Rcheck Warnings: 0