Package: MsQuality Version: 1.10.0 Command: /Library/Frameworks/R.framework/Resources/bin/R CMD INSTALL MsQuality StartedAt: 2025-11-03 15:33:58 -0500 (Mon, 03 Nov 2025) EndedAt: 2025-11-03 15:34:45 -0500 (Mon, 03 Nov 2025) EllapsedTime: 47.2 seconds RetCode: 0 Status: OK