Package: MsQuality Version: 1.10.0 Command: /Library/Frameworks/R.framework/Resources/bin/R CMD build --keep-empty-dirs --no-resave-data MsQuality StartedAt: 2025-11-03 17:56:27 -0500 (Mon, 03 Nov 2025) EndedAt: 2025-11-03 17:57:57 -0500 (Mon, 03 Nov 2025) EllapsedTime: 90.1 seconds RetCode: 0 Status: OK PackageFile: MsQuality_1.10.0.tar.gz PackageFileSize: 4.244 MiB