Package: MsQuality Version: 1.8.3 Command: /home/biocbuild/R/R/bin/R CMD INSTALL MsQuality StartedAt: 2025-10-13 20:51:33 -0000 (Mon, 13 Oct 2025) EndedAt: 2025-10-13 20:51:51 -0000 (Mon, 13 Oct 2025) EllapsedTime: 17.8 seconds RetCode: 1 Status: ERROR