Package: MsQuality Version: 1.8.3 Command: /home/biocbuild/R/R/bin/R CMD build --keep-empty-dirs --no-resave-data MsQuality StartedAt: 2025-10-14 02:52:36 -0000 (Tue, 14 Oct 2025) EndedAt: 2025-10-14 02:52:52 -0000 (Tue, 14 Oct 2025) EllapsedTime: 16.0 seconds RetCode: 1 Status: ERROR PackageFile: None PackageFileSize: NA