Package: MsFeatures Version: 1.18.0 Command: /home/biocbuild/R/R/bin/R CMD INSTALL MsFeatures StartedAt: 2025-11-13 21:29:56 -0000 (Thu, 13 Nov 2025) EndedAt: 2025-11-13 21:30:22 -0000 (Thu, 13 Nov 2025) EllapsedTime: 26.5 seconds RetCode: 0 Status: OK