Package: MsFeatures Version: 1.18.0 Command: /home/biocbuild/bbs-3.22-bioc/R/bin/R CMD check --install=check:MsFeatures.install-out.txt --library=/home/biocbuild/bbs-3.22-bioc/R/site-library --timings MsFeatures_1.18.0.tar.gz StartedAt: 2025-11-12 01:51:52 -0500 (Wed, 12 Nov 2025) EndedAt: 2025-11-12 01:54:39 -0500 (Wed, 12 Nov 2025) EllapsedTime: 167.1 seconds RetCode: 0 Status: OK CheckDir: MsFeatures.Rcheck Warnings: 0