Package: MsFeatures Version: 1.16.0 Command: /Library/Frameworks/R.framework/Resources/bin/R CMD INSTALL MsFeatures StartedAt: 2025-10-09 15:38:49 -0400 (Thu, 09 Oct 2025) EndedAt: 2025-10-09 15:39:33 -0400 (Thu, 09 Oct 2025) EllapsedTime: 44.0 seconds RetCode: 0 Status: OK