Package: MsFeatures Version: 1.16.0 Command: /Library/Frameworks/R.framework/Resources/bin/R CMD build --keep-empty-dirs --no-resave-data MsFeatures StartedAt: 2025-10-09 20:53:56 -0400 (Thu, 09 Oct 2025) EndedAt: 2025-10-09 20:55:12 -0400 (Thu, 09 Oct 2025) EllapsedTime: 75.9 seconds RetCode: 0 Status: OK PackageFile: MsFeatures_1.16.0.tar.gz PackageFileSize: 1.217 MiB