Package: MsExperiment Version: 1.12.0 Command: /home/biocbuild/bbs-3.22-bioc/R/bin/R CMD check --install=check:MsExperiment.install-out.txt --library=/home/biocbuild/bbs-3.22-bioc/R/site-library --timings MsExperiment_1.12.0.tar.gz StartedAt: 2025-11-15 02:07:43 -0500 (Sat, 15 Nov 2025) EndedAt: 2025-11-15 02:12:14 -0500 (Sat, 15 Nov 2025) EllapsedTime: 270.3 seconds RetCode: 0 Status: OK CheckDir: MsExperiment.Rcheck Warnings: 0