Package: MsExperiment Version: 1.10.1 Command: /home/biocbuild/bbs-3.21-bioc/R/bin/R CMD INSTALL MsExperiment StartedAt: 2025-10-15 15:34:26 -0400 (Wed, 15 Oct 2025) EndedAt: 2025-10-15 15:34:55 -0400 (Wed, 15 Oct 2025) EllapsedTime: 29.5 seconds RetCode: 0 Status: OK