Package: MsExperiment Version: 1.10.1 Command: /home/biocbuild/bbs-3.21-bioc/R/bin/R CMD build --keep-empty-dirs --no-resave-data MsExperiment StartedAt: 2025-10-15 18:42:44 -0400 (Wed, 15 Oct 2025) EndedAt: 2025-10-15 18:43:46 -0400 (Wed, 15 Oct 2025) EllapsedTime: 62.0 seconds RetCode: 0 Status: OK PackageFile: MsExperiment_1.10.1.tar.gz PackageFileSize: 1.917 MiB