Package: MsExperiment Version: 1.10.1 Command: /home/biocbuild/R/R/bin/R CMD INSTALL MsExperiment StartedAt: 2025-10-06 20:50:12 -0000 (Mon, 06 Oct 2025) EndedAt: 2025-10-06 20:50:55 -0000 (Mon, 06 Oct 2025) EllapsedTime: 42.6 seconds RetCode: 0 Status: OK