Package: MsExperiment Version: 1.10.1 Command: /home/biocbuild/R/R/bin/R CMD build --keep-empty-dirs --no-resave-data MsExperiment StartedAt: 2025-10-07 02:52:24 -0000 (Tue, 07 Oct 2025) EndedAt: 2025-10-07 02:54:00 -0000 (Tue, 07 Oct 2025) EllapsedTime: 96.0 seconds RetCode: 0 Status: OK PackageFile: MsExperiment_1.10.1.tar.gz PackageFileSize: 1.956 MiB