Package: MsExperiment Version: 1.10.0 Command: rm -rf MsExperiment.buildbin-libdir && mkdir MsExperiment.buildbin-libdir && /Users/biocbuild/BBS/utils/build-universal.sh MsExperiment_1.10.0.tar.gz /Library/Frameworks/R.framework/Resources/bin/R MsExperiment.buildbin-libdir StartedAt: 2025-04-21 22:43:34 -0400 (Mon, 21 Apr 2025) EndedAt: 2025-04-21 22:43:48 -0400 (Mon, 21 Apr 2025) EllapsedTime: 14.3 seconds RetCode: 0 Status: OK PackageFile: MsExperiment_1.10.0.tgz PackageFileSize: 1.463 MiB