Package: MsExperiment Version: 1.10.1 Command: /Library/Frameworks/R.framework/Resources/bin/R CMD build --keep-empty-dirs --no-resave-data MsExperiment StartedAt: 2025-10-14 05:05:55 -0400 (Tue, 14 Oct 2025) EndedAt: 2025-10-14 05:07:24 -0400 (Tue, 14 Oct 2025) EllapsedTime: 88.4 seconds RetCode: 0 Status: OK PackageFile: MsExperiment_1.10.1.tar.gz PackageFileSize: 1.892 MiB