Package: MsExperiment Version: 1.10.1 Command: rm -rf MsExperiment.buildbin-libdir && mkdir MsExperiment.buildbin-libdir && /Users/biocbuild/BBS/utils/build-universal.sh MsExperiment_1.10.1.tar.gz /Library/Frameworks/R.framework/Resources/bin/R MsExperiment.buildbin-libdir StartedAt: 2025-10-15 19:28:53 -0400 (Wed, 15 Oct 2025) EndedAt: 2025-10-15 19:29:34 -0400 (Wed, 15 Oct 2025) EllapsedTime: 40.9 seconds RetCode: 0 Status: OK PackageFile: MsExperiment_1.10.1.tgz PackageFileSize: 1.464 MiB