Package: MsDataHub Version: 1.10.0 Command: /home/biocbuild/R/R/bin/R CMD INSTALL MsDataHub StartedAt: 2025-11-20 22:16:55 -0000 (Thu, 20 Nov 2025) EndedAt: 2025-11-20 22:17:14 -0000 (Thu, 20 Nov 2025) EllapsedTime: 18.4 seconds RetCode: 0 Status: OK